BEGIN:VCALENDAR
VERSION:2.0
PRODID:-//Freiwillige Feuerwehr Ötztal-Bahnhof - ECPv6.15.20//NONSGML v1.0//EN
CALSCALE:GREGORIAN
METHOD:PUBLISH
X-ORIGINAL-URL:https://www.ffoetztal.at
X-WR-CALDESC:Veranstaltungen für Freiwillige Feuerwehr Ötztal-Bahnhof
REFRESH-INTERVAL;VALUE=DURATION:PT1H
X-Robots-Tag:noindex
X-PUBLISHED-TTL:PT1H
BEGIN:VTIMEZONE
TZID:Europe/Vienna
BEGIN:DAYLIGHT
TZOFFSETFROM:+0100
TZOFFSETTO:+0200
TZNAME:CEST
DTSTART:20240331T010000
END:DAYLIGHT
BEGIN:STANDARD
TZOFFSETFROM:+0200
TZOFFSETTO:+0100
TZNAME:CET
DTSTART:20241027T010000
END:STANDARD
BEGIN:DAYLIGHT
TZOFFSETFROM:+0100
TZOFFSETTO:+0200
TZNAME:CEST
DTSTART:20250330T010000
END:DAYLIGHT
BEGIN:STANDARD
TZOFFSETFROM:+0200
TZOFFSETTO:+0100
TZNAME:CET
DTSTART:20251026T010000
END:STANDARD
BEGIN:DAYLIGHT
TZOFFSETFROM:+0100
TZOFFSETTO:+0200
TZNAME:CEST
DTSTART:20260329T010000
END:DAYLIGHT
BEGIN:STANDARD
TZOFFSETFROM:+0200
TZOFFSETTO:+0100
TZNAME:CET
DTSTART:20261025T010000
END:STANDARD
END:VTIMEZONE
BEGIN:VEVENT
DTSTART;TZID=Europe/Vienna:20251002T200000
DTEND;TZID=Europe/Vienna:20251002T220000
DTSTAMP:20260421T162401
CREATED:20250212T193747Z
LAST-MODIFIED:20250212T193747Z
UID:5941-1759435200-1759442400@www.ffoetztal.at
SUMMARY:Gesamtübung - FF Ötztal-Bahnhof
DESCRIPTION:
URL:https://www.ffoetztal.at/event/gesamtuebung-ff-oetztal-bahnhof-8/
LOCATION:Feuerwehrhaus Ötztal Bahnhof\, Gewerbestraße 4a\, Ötztal Bahnhof\, Tirol\, 6430\, Austria
CATEGORIES:Übung
END:VEVENT
BEGIN:VEVENT
DTSTART;VALUE=DATE:20251003
DTEND;VALUE=DATE:20251005
DTSTAMP:20260421T162401
CREATED:20250216T105035Z
LAST-MODIFIED:20250216T105035Z
UID:6008-1759449600-1759622399@www.ffoetztal.at
SUMMARY:FLA Gold
DESCRIPTION:
URL:https://www.ffoetztal.at/event/fla-gold-2/
LOCATION:Landesfeuerwehrschule Telfs\, Florianistraße 1\, Telfs\, Tirol\, 6410\, Austria
CATEGORIES:Bewerb
END:VEVENT
BEGIN:VEVENT
DTSTART;VALUE=DATE:20251004
DTEND;VALUE=DATE:20251005
DTSTAMP:20260421T162401
CREATED:20250212T204410Z
LAST-MODIFIED:20250212T204410Z
UID:5985-1759536000-1759622399@www.ffoetztal.at
SUMMARY:KHD Übung im Pitztal
DESCRIPTION:
URL:https://www.ffoetztal.at/event/khd-uebung-im-pitztal/
LOCATION:Tirol
CATEGORIES:Übung
END:VEVENT
BEGIN:VEVENT
DTSTART;VALUE=DATE:20251018
DTEND;VALUE=DATE:20251019
DTSTAMP:20260421T162401
CREATED:20250212T204532Z
LAST-MODIFIED:20250212T204532Z
UID:5987-1760745600-1760831999@www.ffoetztal.at
SUMMARY:Atemschutzleistungswettbewerb in Imst
DESCRIPTION:
URL:https://www.ffoetztal.at/event/atemschutzleistungswettbewerb-in-imst/
LOCATION:Stadtfeuerwehr Imst
CATEGORIES:Bewerb
END:VEVENT
END:VCALENDAR