BEGIN:VCALENDAR
VERSION:2.0
PRODID:-//Freiwillige Feuerwehr Ötztal-Bahnhof - ECPv6.15.20//NONSGML v1.0//EN
CALSCALE:GREGORIAN
METHOD:PUBLISH
X-WR-CALNAME:Freiwillige Feuerwehr Ötztal-Bahnhof
X-ORIGINAL-URL:https://www.ffoetztal.at
X-WR-CALDESC:Veranstaltungen für Freiwillige Feuerwehr Ötztal-Bahnhof
REFRESH-INTERVAL;VALUE=DURATION:PT1H
X-Robots-Tag:noindex
X-PUBLISHED-TTL:PT1H
BEGIN:VTIMEZONE
TZID:Europe/Vienna
BEGIN:DAYLIGHT
TZOFFSETFROM:+0100
TZOFFSETTO:+0200
TZNAME:CEST
DTSTART:20240331T010000
END:DAYLIGHT
BEGIN:STANDARD
TZOFFSETFROM:+0200
TZOFFSETTO:+0100
TZNAME:CET
DTSTART:20241027T010000
END:STANDARD
BEGIN:DAYLIGHT
TZOFFSETFROM:+0100
TZOFFSETTO:+0200
TZNAME:CEST
DTSTART:20250330T010000
END:DAYLIGHT
BEGIN:STANDARD
TZOFFSETFROM:+0200
TZOFFSETTO:+0100
TZNAME:CET
DTSTART:20251026T010000
END:STANDARD
BEGIN:DAYLIGHT
TZOFFSETFROM:+0100
TZOFFSETTO:+0200
TZNAME:CEST
DTSTART:20260329T010000
END:DAYLIGHT
BEGIN:STANDARD
TZOFFSETFROM:+0200
TZOFFSETTO:+0100
TZNAME:CET
DTSTART:20261025T010000
END:STANDARD
END:VTIMEZONE
BEGIN:VEVENT
DTSTART;TZID=Europe/Vienna:20250904T200000
DTEND;TZID=Europe/Vienna:20250904T220000
DTSTAMP:20260421T111922
CREATED:20250212T193229Z
LAST-MODIFIED:20250212T193229Z
UID:5931-1757016000-1757023200@www.ffoetztal.at
SUMMARY:Übung 2. Zug - FF Ötztal-Bahnhof
DESCRIPTION:
URL:https://www.ffoetztal.at/event/uebung-2-zug-ff-oetztal-bahnhof-8/
LOCATION:Feuerwehrhaus Ötztal Bahnhof\, Gewerbestraße 4a\, Ötztal Bahnhof\, Tirol\, 6430\, Austria
CATEGORIES:Übung
END:VEVENT
BEGIN:VEVENT
DTSTART;TZID=Europe/Vienna:20250919T090000
DTEND;TZID=Europe/Vienna:20250919T120000
DTSTAMP:20260421T111922
CREATED:20250212T195929Z
LAST-MODIFIED:20250212T195929Z
UID:5962-1758272400-1758283200@www.ffoetztal.at
SUMMARY:Gemeinschaftsübung Volksschule Haiming
DESCRIPTION:
URL:https://www.ffoetztal.at/event/gemeinschaftsuebung-volksschule-haiming/
LOCATION:Volksschule Haiming
CATEGORIES:Übung
END:VEVENT
BEGIN:VEVENT
DTSTART;TZID=Europe/Vienna:20250919T200000
DTEND;TZID=Europe/Vienna:20250919T220000
DTSTAMP:20260421T111922
CREATED:20250623T073800Z
LAST-MODIFIED:20250623T073800Z
UID:6187-1758312000-1758319200@www.ffoetztal.at
SUMMARY:Übung Funker – FF Ötztal Bahnhof
DESCRIPTION:
URL:https://www.ffoetztal.at/event/uebung-funker-ff-oetztal-bahnhof/
LOCATION:Feuerwehrhaus Ötztal Bahnhof\, Gewerbestraße 4a\, Ötztal Bahnhof\, Tirol\, 6430\, Austria
CATEGORIES:Übung
END:VEVENT
BEGIN:VEVENT
DTSTART;TZID=Europe/Vienna:20250927T080000
DTEND;TZID=Europe/Vienna:20250927T170000
DTSTAMP:20260421T111922
CREATED:20250212T204230Z
LAST-MODIFIED:20250212T204230Z
UID:5983-1758960000-1758992400@www.ffoetztal.at
SUMMARY:Abschnittsübung Inntal-Mieming in Stams
DESCRIPTION:
URL:https://www.ffoetztal.at/event/abschnittsuebung-inntal-mieming-in-stams/
LOCATION:Freiwillige Feuerwehr Stams
CATEGORIES:Übung
END:VEVENT
END:VCALENDAR