BEGIN:VCALENDAR
VERSION:2.0
PRODID:-//Freiwillige Feuerwehr Ötztal-Bahnhof - ECPv6.15.20//NONSGML v1.0//EN
CALSCALE:GREGORIAN
METHOD:PUBLISH
X-WR-CALNAME:Freiwillige Feuerwehr Ötztal-Bahnhof
X-ORIGINAL-URL:https://www.ffoetztal.at
X-WR-CALDESC:Veranstaltungen für Freiwillige Feuerwehr Ötztal-Bahnhof
REFRESH-INTERVAL;VALUE=DURATION:PT1H
X-Robots-Tag:noindex
X-PUBLISHED-TTL:PT1H
BEGIN:VTIMEZONE
TZID:Europe/Vienna
BEGIN:DAYLIGHT
TZOFFSETFROM:+0100
TZOFFSETTO:+0200
TZNAME:CEST
DTSTART:20250330T010000
END:DAYLIGHT
BEGIN:STANDARD
TZOFFSETFROM:+0200
TZOFFSETTO:+0100
TZNAME:CET
DTSTART:20251026T010000
END:STANDARD
BEGIN:DAYLIGHT
TZOFFSETFROM:+0100
TZOFFSETTO:+0200
TZNAME:CEST
DTSTART:20260329T010000
END:DAYLIGHT
BEGIN:STANDARD
TZOFFSETFROM:+0200
TZOFFSETTO:+0100
TZNAME:CET
DTSTART:20261025T010000
END:STANDARD
BEGIN:DAYLIGHT
TZOFFSETFROM:+0100
TZOFFSETTO:+0200
TZNAME:CEST
DTSTART:20270328T010000
END:DAYLIGHT
BEGIN:STANDARD
TZOFFSETFROM:+0200
TZOFFSETTO:+0100
TZNAME:CET
DTSTART:20271031T010000
END:STANDARD
END:VTIMEZONE
BEGIN:VEVENT
DTSTART;TZID=Europe/Vienna:20260422T200000
DTEND;TZID=Europe/Vienna:20260422T220000
DTSTAMP:20260421T140424
CREATED:20260209T204449Z
LAST-MODIFIED:20260209T204449Z
UID:6436-1776888000-1776895200@www.ffoetztal.at
SUMMARY:Übung 2. Zug - FF Ötztal-Bahnhof
DESCRIPTION:
URL:https://www.ffoetztal.at/event/uebung-2-zug-ff-oetztal-bahnhof/
LOCATION:Feuerwehrhaus Ötztal Bahnhof\, Gewerbestraße 4a\, Ötztal Bahnhof\, Tirol\, 6430\, Austria
CATEGORIES:Übung
END:VEVENT
BEGIN:VEVENT
DTSTART;TZID=Europe/Vienna:20260425T090000
DTEND;TZID=Europe/Vienna:20260425T120000
DTSTAMP:20260421T140424
CREATED:20260209T203502Z
LAST-MODIFIED:20260209T203502Z
UID:6425-1777107600-1777118400@www.ffoetztal.at
SUMMARY:ÖFAST - FF Ötztal-Bahnhof
DESCRIPTION:
URL:https://www.ffoetztal.at/event/oefast-ff-oetztal-bahnhof-2/
LOCATION:Feuerwehrhaus Ötztal Bahnhof\, Gewerbestraße 4a\, Ötztal Bahnhof\, Tirol\, 6430\, Austria
CATEGORIES:Tauglichkeitsüberprüfung
END:VEVENT
BEGIN:VEVENT
DTSTART;TZID=Europe/Vienna:20260501T090000
DTEND;TZID=Europe/Vienna:20260501T170000
DTSTAMP:20260421T140424
CREATED:20251124T200538Z
LAST-MODIFIED:20251124T200607Z
UID:6319-1777626000-1777654800@www.ffoetztal.at
SUMMARY:Pfarrfest Ötztal-Bahnhof
DESCRIPTION:
URL:https://www.ffoetztal.at/event/pfarrfest-oetztal-bahnhof-2/
LOCATION:Pfarrkirche Ötztal Bahnhof
CATEGORIES:Veranstaltung
END:VEVENT
BEGIN:VEVENT
DTSTART;TZID=Europe/Vienna:20260501T180000
DTEND;TZID=Europe/Vienna:20260501T220000
DTSTAMP:20260421T140424
CREATED:20251124T200440Z
LAST-MODIFIED:20260416T201841Z
UID:6316-1777658400-1777672800@www.ffoetztal.at
SUMMARY:Bezirksfeuerwehrtag BFV Imst
DESCRIPTION:
URL:https://www.ffoetztal.at/event/bezirksfeuerwehrtag-bfv-imst/
LOCATION:Freiwillige Feuerwehr Nassereith\, Ing.-Kastner-Straße 181b\, Nassereith\, 6465\, Austria
CATEGORIES:Veranstaltung
END:VEVENT
BEGIN:VEVENT
DTSTART;TZID=Europe/Vienna:20260502T180000
DTEND;TZID=Europe/Vienna:20260502T200000
DTSTAMP:20260421T140424
CREATED:20260209T204705Z
LAST-MODIFIED:20260209T204705Z
UID:6440-1777744800-1777752000@www.ffoetztal.at
SUMMARY:Florianfeier Haiming
DESCRIPTION:
URL:https://www.ffoetztal.at/event/florianfeier-haiming/
LOCATION:Feuerwehrhaus Haiming\, Rauthweg 2\, Haiming\, Tirol\, 6425\, Austria
CATEGORIES:Veranstaltung
END:VEVENT
BEGIN:VEVENT
DTSTART;TZID=Europe/Vienna:20260506T200000
DTEND;TZID=Europe/Vienna:20260506T220000
DTSTAMP:20260421T140424
CREATED:20260209T204802Z
LAST-MODIFIED:20260209T204802Z
UID:6442-1778097600-1778104800@www.ffoetztal.at
SUMMARY:Gesamtübung - FF Ötztal-Bahnhof
DESCRIPTION:
URL:https://www.ffoetztal.at/event/gesamtuebung-ff-oetztal-bahnhof-2/
LOCATION:Feuerwehrhaus Ötztal Bahnhof\, Gewerbestraße 4a\, Ötztal Bahnhof\, Tirol\, 6430\, Austria
CATEGORIES:Übung
END:VEVENT
BEGIN:VEVENT
DTSTART;TZID=Europe/Vienna:20260510T130000
DTEND;TZID=Europe/Vienna:20260510T170000
DTSTAMP:20260421T140424
CREATED:20251124T203534Z
LAST-MODIFIED:20251124T203534Z
UID:6337-1778418000-1778432400@www.ffoetztal.at
SUMMARY:Wings4Life-Run Ötztal-Bahnhof
DESCRIPTION:
URL:https://www.ffoetztal.at/event/wings4life-run-oetztal-bahnhof-2/
LOCATION:Feuerwehrhaus Ötztal Bahnhof\, Gewerbestraße 4a\, Ötztal Bahnhof\, Tirol\, 6430\, Austria
CATEGORIES:Veranstaltung
END:VEVENT
BEGIN:VEVENT
DTSTART;TZID=Europe/Vienna:20260519T200000
DTEND;TZID=Europe/Vienna:20260519T220000
DTSTAMP:20260421T140424
CREATED:20260209T205020Z
LAST-MODIFIED:20260209T205020Z
UID:6444-1779220800-1779228000@www.ffoetztal.at
SUMMARY:Übung Funker – FF Ötztal Bahnhof
DESCRIPTION:
URL:https://www.ffoetztal.at/event/uebung-funker-ff-oetztal-bahnhof-2/
LOCATION:Feuerwehrhaus Ötztal Bahnhof\, Gewerbestraße 4a\, Ötztal Bahnhof\, Tirol\, 6430\, Austria
CATEGORIES:Übung
END:VEVENT
BEGIN:VEVENT
DTSTART;TZID=Europe/Vienna:20260526T200000
DTEND;TZID=Europe/Vienna:20260526T220000
DTSTAMP:20260421T140424
CREATED:20260209T205124Z
LAST-MODIFIED:20260209T205124Z
UID:6446-1779825600-1779832800@www.ffoetztal.at
SUMMARY:Übung 1. Zug - FF Ötztal-Bahnhof
DESCRIPTION:
URL:https://www.ffoetztal.at/event/uebung-1-zug-ff-oetztal-bahnhof-2/
LOCATION:Feuerwehrhaus Ötztal Bahnhof\, Gewerbestraße 4a\, Ötztal Bahnhof\, Tirol\, 6430\, Austria
CATEGORIES:Übung
END:VEVENT
BEGIN:VEVENT
DTSTART;TZID=Europe/Vienna:20260528T200000
DTEND;TZID=Europe/Vienna:20260528T220000
DTSTAMP:20260421T140424
CREATED:20260209T205150Z
LAST-MODIFIED:20260209T205150Z
UID:6448-1779998400-1780005600@www.ffoetztal.at
SUMMARY:Übung 2. Zug - FF Ötztal-Bahnhof
DESCRIPTION:
URL:https://www.ffoetztal.at/event/uebung-2-zug-ff-oetztal-bahnhof-2/
LOCATION:Feuerwehrhaus Ötztal Bahnhof\, Gewerbestraße 4a\, Ötztal Bahnhof\, Tirol\, 6430\, Austria
CATEGORIES:Übung
END:VEVENT
BEGIN:VEVENT
DTSTART;VALUE=DATE:20260612
DTEND;VALUE=DATE:20260614
DTSTAMP:20260421T140424
CREATED:20251124T200913Z
LAST-MODIFIED:20251124T200913Z
UID:6321-1781222400-1781395199@www.ffoetztal.at
SUMMARY:Landesfeuerwehrleistungswettbewerb in Zams
DESCRIPTION:
URL:https://www.ffoetztal.at/event/landesfeuerwehrleistungswettbewerb-in-zams/
LOCATION:Freiwillige Feuerwehr Zams\, Oberreitweg 3\, Zams\, 6511\, Austria
CATEGORIES:Bewerb
END:VEVENT
BEGIN:VEVENT
DTSTART;TZID=Europe/Vienna:20260614T090000
DTEND;TZID=Europe/Vienna:20260614T120000
DTSTAMP:20260421T140424
CREATED:20260204T220619Z
LAST-MODIFIED:20260204T220619Z
UID:6421-1781427600-1781438400@www.ffoetztal.at
SUMMARY:Herz-Jesu-Prozession Ötztal-Bahnhof
DESCRIPTION:
URL:https://www.ffoetztal.at/event/herz-jesu-prozession-oetztal-bahnhof-2/
LOCATION:Pfarrkirche Ötztal Bahnhof
CATEGORIES:Veranstaltung
END:VEVENT
BEGIN:VEVENT
DTSTART;VALUE=DATE:20260620
DTEND;VALUE=DATE:20260621
DTSTAMP:20260421T140424
CREATED:20251124T201214Z
LAST-MODIFIED:20251124T201214Z
UID:6324-1781913600-1781999999@www.ffoetztal.at
SUMMARY:Abschnitts-Nassbewerb Pitztal in Plangeross
DESCRIPTION:
URL:https://www.ffoetztal.at/event/abschnitts-nassbewerb-pitztal-in-plangeross/
LOCATION:Freiwillige Feuerwehr Plangeross\, Plangeross 96\, St. Leonhard im Pitztal\, 6481\, Austria
CATEGORIES:Bewerb
END:VEVENT
BEGIN:VEVENT
DTSTART;TZID=Europe/Vienna:20260624T200000
DTEND;TZID=Europe/Vienna:20260624T220000
DTSTAMP:20260421T140424
CREATED:20260209T205556Z
LAST-MODIFIED:20260209T205556Z
UID:6453-1782331200-1782338400@www.ffoetztal.at
SUMMARY:Übung Fahrer- und Maschinisten – FF Ötztal Bahnhof
DESCRIPTION:
URL:https://www.ffoetztal.at/event/uebung-fahrer-und-maschinisten-ff-oetztal-bahnhof-3/
LOCATION:Feuerwehrhaus Ötztal Bahnhof\, Gewerbestraße 4a\, Ötztal Bahnhof\, Tirol\, 6430\, Austria
CATEGORIES:Übung
END:VEVENT
BEGIN:VEVENT
DTSTART;VALUE=DATE:20260627
DTEND;VALUE=DATE:20260628
DTSTAMP:20260421T140424
CREATED:20251124T201318Z
LAST-MODIFIED:20251124T201318Z
UID:6328-1782518400-1782604799@www.ffoetztal.at
SUMMARY:Bezirksnassleistungswettbewerb in Tarrenz
DESCRIPTION:
URL:https://www.ffoetztal.at/event/bezirksnassleistungswettbewerb-in-tarrenz/
LOCATION:Freiwillige Feuerwehr Tarrenz\, Brenjurweg 1\, Tarrenz\, 6464\, Austria
CATEGORIES:Bewerb
END:VEVENT
BEGIN:VEVENT
DTSTART;TZID=Europe/Vienna:20260701T200000
DTEND;TZID=Europe/Vienna:20260701T220000
DTSTAMP:20260421T140424
CREATED:20260209T205425Z
LAST-MODIFIED:20260209T205425Z
UID:6451-1782936000-1782943200@www.ffoetztal.at
SUMMARY:Gesamtübung - FF Ötztal-Bahnhof
DESCRIPTION:
URL:https://www.ffoetztal.at/event/gesamtuebung-ff-oetztal-bahnhof-3/
LOCATION:Feuerwehrhaus Ötztal Bahnhof\, Gewerbestraße 4a\, Ötztal Bahnhof\, Tirol\, 6430\, Austria
CATEGORIES:Übung
END:VEVENT
BEGIN:VEVENT
DTSTART;VALUE=DATE:20260703
DTEND;VALUE=DATE:20260706
DTSTAMP:20260421T140424
CREATED:20251124T201752Z
LAST-MODIFIED:20251124T201752Z
UID:6330-1783036800-1783295999@www.ffoetztal.at
SUMMARY:Landesfeuerwehrjugendwettbewerb in Volders
DESCRIPTION:
URL:https://www.ffoetztal.at/event/landesfeuerwehrjugendwettbewerb-in-volders/
LOCATION:Freiwillige Feuerwehr Volders\, Johannesfeldstraße 23\, Volders\, 6111\, Austria
CATEGORIES:Bewerb
END:VEVENT
BEGIN:VEVENT
DTSTART;TZID=Europe/Vienna:20260711T160000
DTEND;TZID=Europe/Vienna:20260712T030000
DTSTAMP:20260421T140424
CREATED:20250918T185443Z
LAST-MODIFIED:20251124T203641Z
UID:6279-1783785600-1783825200@www.ffoetztal.at
SUMMARY:Feuerwehrfest - FF Ötztal-Bahnhof
DESCRIPTION:„FEUERWEHR zum Angreifen“ – Fest der FF Ötztal Bahnhof !\n\nAm Samstag\, den 11. Juli 2026 ist es ab 16:00 Uhr wieder soweit!!!\n\nBereits zum 13. Mal präsentiert sich die Feuerwehr Ötztal Bahnhof beim Feuerwehrhaus und veranstaltet einen gemeinsamen Festabend mit Musik & Tanz.\nNatürlich gibt es wieder leckere Grillhendln\, Bratwürste\, und vieles mehr…\n\nFür beste Unterhaltung sorgen „DIE BANDSIONISTS“!!\n\nNatürlich haben wir auch wieder ein tolles Kinderprogramm\, sowie eine TOMBOLA mit aufregenden Preisen!!\n\n**HIGHLIGHT** – Schauübung um 19:00 Uhr!\n\nDas Fest findet bei jeder Witterung statt und der Eintritt ist frei!\n\nDie Mannschaft der FF Ötztal Bahnhof freut sich auf EUER KOMMEN!!\n\n\n\n 
URL:https://www.ffoetztal.at/event/feuerwehrfest-ff-oetztal-bahnhof/
LOCATION:Feuerwehrhaus Ötztal Bahnhof\, Gewerbestraße 4a\, Ötztal Bahnhof\, Tirol\, 6430\, Austria
CATEGORIES:Veranstaltung
END:VEVENT
BEGIN:VEVENT
DTSTART;VALUE=DATE:20260718
DTEND;VALUE=DATE:20260719
DTSTAMP:20260421T140424
CREATED:20251124T203327Z
LAST-MODIFIED:20251124T203327Z
UID:6333-1784332800-1784419199@www.ffoetztal.at
SUMMARY:Abschnitts-Nassbewerb Vorderes Ötztal & Imst/Gurgltal in Oetzerau
DESCRIPTION:
URL:https://www.ffoetztal.at/event/abschnitts-nassbewerb-vorderes-oetztal-imst-gurgltal-in-oetzerau/
LOCATION:Freiwillige Feuerwehr Oetzerau\, Oetzerau 37\, Oetz\, 6433\, Austria
CATEGORIES:Bewerb
END:VEVENT
BEGIN:VEVENT
DTSTART;TZID=Europe/Vienna:20260720T200000
DTEND;TZID=Europe/Vienna:20260720T220000
DTSTAMP:20260421T140424
CREATED:20260209T205703Z
LAST-MODIFIED:20260209T205703Z
UID:6455-1784577600-1784584800@www.ffoetztal.at
SUMMARY:Übung Atemschutzträger – FF Ötztal Bahnhof
DESCRIPTION:
URL:https://www.ffoetztal.at/event/uebung-atemschutztraeger-ff-oetztal-bahnhof-2/
LOCATION:Feuerwehrhaus Ötztal Bahnhof\, Gewerbestraße 4a\, Ötztal Bahnhof\, Tirol\, 6430\, Austria
CATEGORIES:Übung
END:VEVENT
BEGIN:VEVENT
DTSTART;TZID=Europe/Vienna:20260727T200000
DTEND;TZID=Europe/Vienna:20260727T220000
DTSTAMP:20260421T140424
CREATED:20260209T205736Z
LAST-MODIFIED:20260209T205736Z
UID:6457-1785182400-1785189600@www.ffoetztal.at
SUMMARY:Übung 1. Zug - FF Ötztal-Bahnhof
DESCRIPTION:
URL:https://www.ffoetztal.at/event/uebung-1-zug-ff-oetztal-bahnhof-4/
LOCATION:Feuerwehrhaus Ötztal Bahnhof\, Gewerbestraße 4a\, Ötztal Bahnhof\, Tirol\, 6430\, Austria
CATEGORIES:Übung
END:VEVENT
BEGIN:VEVENT
DTSTART;TZID=Europe/Vienna:20260804T200000
DTEND;TZID=Europe/Vienna:20260804T220000
DTSTAMP:20260421T140424
CREATED:20260209T205802Z
LAST-MODIFIED:20260209T205802Z
UID:6459-1785873600-1785880800@www.ffoetztal.at
SUMMARY:Übung 2. Zug - FF Ötztal-Bahnhof
DESCRIPTION:
URL:https://www.ffoetztal.at/event/uebung-2-zug-ff-oetztal-bahnhof-3/
LOCATION:Feuerwehrhaus Ötztal Bahnhof\, Gewerbestraße 4a\, Ötztal Bahnhof\, Tirol\, 6430\, Austria
CATEGORIES:Übung
END:VEVENT
BEGIN:VEVENT
DTSTART;TZID=Europe/Vienna:20260810T200000
DTEND;TZID=Europe/Vienna:20260810T220000
DTSTAMP:20260421T140424
CREATED:20260209T210830Z
LAST-MODIFIED:20260209T210830Z
UID:6450-1786392000-1786399200@www.ffoetztal.at
SUMMARY:Übung Personenretter – FF Ötztal Bahnhof
DESCRIPTION:
URL:https://www.ffoetztal.at/event/uebung-personenretter-ff-oetztal-bahnhof/
LOCATION:Feuerwehrhaus Ötztal Bahnhof\, Gewerbestraße 4a\, Ötztal Bahnhof\, Tirol\, 6430\, Austria
CATEGORIES:Übung
END:VEVENT
BEGIN:VEVENT
DTSTART;TZID=Europe/Vienna:20260831T200000
DTEND;TZID=Europe/Vienna:20260831T220000
DTSTAMP:20260421T140424
CREATED:20260209T210955Z
LAST-MODIFIED:20260209T210955Z
UID:6462-1788206400-1788213600@www.ffoetztal.at
SUMMARY:Übung Funker – FF Ötztal Bahnhof
DESCRIPTION:
URL:https://www.ffoetztal.at/event/uebung-funker-ff-oetztal-bahnhof-3/
LOCATION:Feuerwehrhaus Ötztal Bahnhof\, Gewerbestraße 4a\, Ötztal Bahnhof\, Tirol\, 6430\, Austria
CATEGORIES:Übung
END:VEVENT
BEGIN:VEVENT
DTSTART;TZID=Europe/Vienna:20260924T200000
DTEND;TZID=Europe/Vienna:20260924T220000
DTSTAMP:20260421T140424
CREATED:20260209T211025Z
LAST-MODIFIED:20260414T122008Z
UID:6464-1790280000-1790287200@www.ffoetztal.at
SUMMARY:Gesamtübung ÖBB - FF Ötztal-Bahnhof
DESCRIPTION:
URL:https://www.ffoetztal.at/event/gesamtuebung-ff-oetztal-bahnhof-4/
LOCATION:Feuerwehrhaus Ötztal Bahnhof\, Gewerbestraße 4a\, Ötztal Bahnhof\, Tirol\, 6430\, Austria
CATEGORIES:Übung
END:VEVENT
BEGIN:VEVENT
DTSTART;TZID=Europe/Vienna:20260930T200000
DTEND;TZID=Europe/Vienna:20260930T220000
DTSTAMP:20260421T140424
CREATED:20260209T211140Z
LAST-MODIFIED:20260209T211140Z
UID:6466-1790798400-1790805600@www.ffoetztal.at
SUMMARY:Übung Fahrer- und Maschinisten – FF Ötztal Bahnhof
DESCRIPTION:
URL:https://www.ffoetztal.at/event/uebung-fahrer-und-maschinisten-ff-oetztal-bahnhof-4/
LOCATION:Feuerwehrhaus Ötztal Bahnhof\, Gewerbestraße 4a\, Ötztal Bahnhof\, Tirol\, 6430\, Austria
CATEGORIES:Übung
END:VEVENT
BEGIN:VEVENT
DTSTART;VALUE=DATE:20261002
DTEND;VALUE=DATE:20261003
DTSTAMP:20260421T140424
CREATED:20251124T203815Z
LAST-MODIFIED:20251124T203815Z
UID:6340-1790899200-1790985599@www.ffoetztal.at
SUMMARY:FLA Gold
DESCRIPTION:
URL:https://www.ffoetztal.at/event/fla-gold/
LOCATION:Landesfeuerwehrschule Telfs\, Florianistraße 1\, Telfs\, Tirol\, 6410\, Austria
CATEGORIES:Bewerb
END:VEVENT
BEGIN:VEVENT
DTSTART;TZID=Europe/Vienna:20261009T200000
DTEND;TZID=Europe/Vienna:20261009T220000
DTSTAMP:20260421T140424
CREATED:20260209T211215Z
LAST-MODIFIED:20260209T211215Z
UID:6468-1791576000-1791583200@www.ffoetztal.at
SUMMARY:Übung 1. Zug - FF Ötztal-Bahnhof
DESCRIPTION:
URL:https://www.ffoetztal.at/event/uebung-1-zug-ff-oetztal-bahnhof-6/
LOCATION:Feuerwehrhaus Ötztal Bahnhof\, Gewerbestraße 4a\, Ötztal Bahnhof\, Tirol\, 6430\, Austria
CATEGORIES:Übung
END:VEVENT
BEGIN:VEVENT
DTSTART;TZID=Europe/Vienna:20261016T200000
DTEND;TZID=Europe/Vienna:20261016T220000
DTSTAMP:20260421T140424
CREATED:20260209T211252Z
LAST-MODIFIED:20260209T211252Z
UID:6470-1792180800-1792188000@www.ffoetztal.at
SUMMARY:Übung 2. Zug - FF Ötztal-Bahnhof
DESCRIPTION:
URL:https://www.ffoetztal.at/event/uebung-2-zug-ff-oetztal-bahnhof-4/
LOCATION:Feuerwehrhaus Ötztal Bahnhof\, Gewerbestraße 4a\, Ötztal Bahnhof\, Tirol\, 6430\, Austria
CATEGORIES:Übung
END:VEVENT
BEGIN:VEVENT
DTSTART;VALUE=DATE:20261017
DTEND;VALUE=DATE:20261018
DTSTAMP:20260421T140424
CREATED:20251124T203920Z
LAST-MODIFIED:20251124T203920Z
UID:6342-1792195200-1792281599@www.ffoetztal.at
SUMMARY:Atemschutzleistungswettbewerb in Imst
DESCRIPTION:
URL:https://www.ffoetztal.at/event/atemschutzleistungswettbewerb-in-imst-2/
LOCATION:Stadtfeuerwehr Imst
CATEGORIES:Bewerb
END:VEVENT
END:VCALENDAR