BEGIN:VCALENDAR
VERSION:2.0
PRODID:-//Freiwillige Feuerwehr Ötztal-Bahnhof - ECPv6.15.20//NONSGML v1.0//EN
CALSCALE:GREGORIAN
METHOD:PUBLISH
X-WR-CALNAME:Freiwillige Feuerwehr Ötztal-Bahnhof
X-ORIGINAL-URL:https://www.ffoetztal.at
X-WR-CALDESC:Veranstaltungen für Freiwillige Feuerwehr Ötztal-Bahnhof
REFRESH-INTERVAL;VALUE=DURATION:PT1H
X-Robots-Tag:noindex
X-PUBLISHED-TTL:PT1H
BEGIN:VTIMEZONE
TZID:Europe/Vienna
BEGIN:DAYLIGHT
TZOFFSETFROM:+0100
TZOFFSETTO:+0200
TZNAME:CEST
DTSTART:20250330T010000
END:DAYLIGHT
BEGIN:STANDARD
TZOFFSETFROM:+0200
TZOFFSETTO:+0100
TZNAME:CET
DTSTART:20251026T010000
END:STANDARD
BEGIN:DAYLIGHT
TZOFFSETFROM:+0100
TZOFFSETTO:+0200
TZNAME:CEST
DTSTART:20260329T010000
END:DAYLIGHT
BEGIN:STANDARD
TZOFFSETFROM:+0200
TZOFFSETTO:+0100
TZNAME:CET
DTSTART:20261025T010000
END:STANDARD
BEGIN:DAYLIGHT
TZOFFSETFROM:+0100
TZOFFSETTO:+0200
TZNAME:CEST
DTSTART:20270328T010000
END:DAYLIGHT
BEGIN:STANDARD
TZOFFSETFROM:+0200
TZOFFSETTO:+0100
TZNAME:CET
DTSTART:20271031T010000
END:STANDARD
END:VTIMEZONE
BEGIN:VEVENT
DTSTART;TZID=Europe/Vienna:20260502T180000
DTEND;TZID=Europe/Vienna:20260502T200000
DTSTAMP:20260421T105607
CREATED:20260209T204705Z
LAST-MODIFIED:20260209T204705Z
UID:6440-1777744800-1777752000@www.ffoetztal.at
SUMMARY:Florianfeier Haiming
DESCRIPTION:
URL:https://www.ffoetztal.at/event/florianfeier-haiming/
LOCATION:Feuerwehrhaus Haiming\, Rauthweg 2\, Haiming\, Tirol\, 6425\, Austria
CATEGORIES:Veranstaltung
END:VEVENT
END:VCALENDAR